BEGIN:VCALENDAR
VERSION:2.0
PRODID:-//ChamberMaster//Event Calendar 2.0//EN
METHOD:PUBLISH
X-PUBLISHED-TTL:P3D
REFRESH-INTERVAL:P3D
CALSCALE:GREGORIAN
BEGIN:VEVENT
DTSTART:20260517T173000Z
DTEND:20260517T203000Z
X-MICROSOFT-CDO-ALLDAYEVENT:FALSE
SUMMARY:First Steps to Kidney Transplant
DESCRIPTION:Join us for an easy to understand\, beginner-friendly look at kidney transplant. We'll walk through what kidney failure and treatment options really mean\, break down the different types of transplants\, and talk about what to expect from evaluation to surgery. You'll also hear real stories from people who've been through it. Perfect for anyone in CKD Stage 2 - 5\, on dialysis\, or considering transplant for the first time\, and for the family\, friends\, and care partners who support them. ?Special thanks to our Donate Life Kansas and Donate Life Missouri partner\, Midwest Transplant Network\, for generously providing the space for this program.
X-ALT-DESC;FMTTYPE=text/html:Join us for an easy to understand\, beginner-friendly look at kidney transplant. We&rsquo\;ll walk through what kidney failure and treatment options really mean\, break down the different types of transplants\, and talk about what to expect from evaluation to surgery. You&rsquo\;ll also hear real stories from people who&rsquo\;ve been through it. Perfect for anyone in CKD Stage 2 - 5\, on dialysis\, or considering transplant for the first time\, and for the family\, friends\, and care partners who support them. ?Special thanks to our Donate Life Kansas and Donate Life Missouri partner\, Midwest Transplant Network\, for generously providing the space for this program.
LOCATION:Midwest Transplant Network 1900 W 47th Place\, #400\, Westwood\, MO 66205
UID:e.9142.10380
SEQUENCE:3
DTSTAMP:20260423T011214Z
URL:https://info.npconnect.org/events/details/first-steps-to-kidney-transplant-05-17-2026-10380
END:VEVENT

END:VCALENDAR
