BEGIN:VCALENDAR
VERSION:2.0
PRODID:-//ChamberMaster//Event Calendar 2.0//EN
METHOD:PUBLISH
X-PUBLISHED-TTL:P3D
REFRESH-INTERVAL:P3D
CALSCALE:GREGORIAN
BEGIN:VEVENT
DTSTART:20181206T150000Z
DTEND:20181219T220000Z
X-MICROSOFT-CDO-ALLDAYEVENT:FALSE
SUMMARY:Hillcrest Center Toy Drive
DESCRIPTION:Hillcrest Center is a 203 year old non-profit organization. We provide mental health and substance use disorder treatment for children\, youth\, adults and families in DC.We are embracing the season of giving by providing our young clients with toys for the holidays. From now until December 19\, we will be collecting new toys for our tots. Our goal is to help 25 Hillcrest families for the holidays. Please bring unwrapped toys to our offices. For more information about the Toy Drive\, please contact Tiffany Jordan at tjordan@hillcrest-dc.org.
X-ALT-DESC;FMTTYPE=text/html:Hillcrest Center is a 203 year old non-profit organization. We provide mental health and substance use disorder treatment for children\, youth\, adults and families in DC.We are embracing the season of giving by providing our young clients with toys for the holidays. From now until December 19\, we will be collecting new toys for our tots. Our goal is to help 25 Hillcrest families for the holidays. Please bring unwrapped toys to our offices. For more information about the Toy Drive\, please contact Tiffany Jordan at tjordan@hillcrest-dc.org.
LOCATION:915 Rhode Island Ave NW Washington\, DC 20001
UID:e.9142.4367
SEQUENCE:3
DTSTAMP:20260420T153136Z
URL:https://info.npconnect.org/events/details/hillcrest-center-toy-drive-4367
END:VEVENT

END:VCALENDAR
