BEGIN:VCALENDAR
VERSION:2.0
PRODID:-//ChamberMaster//Event Calendar 2.0//EN
METHOD:PUBLISH
X-PUBLISHED-TTL:P3D
REFRESH-INTERVAL:P3D
CALSCALE:GREGORIAN
BEGIN:VEVENT
DTSTART:20260320T133000Z
DTEND:20260320T213000Z
X-MICROSOFT-CDO-ALLDAYEVENT:FALSE
SUMMARY:Interpersonal Confict Resolution Training
DESCRIPTION:Conflict shows up in everyday life\, at work\, home\, and in community. Interpersonal Conflict Resolution (ICR) training offers you insight into your own conflict styles in calm and storm. You'll learn skills to navigate conflict in healthy ways and engage in real conversations. must complete before taking Mediation training)
X-ALT-DESC;FMTTYPE=text/html:<p><span style="color:rgba(20\,12\,3\,var(--O42jJQ\,1))">Conflict shows up in everyday life\, at work\, home\, and in community. Interpersonal Conflict Resolution (ICR) training offers you insight into your own conflict styles in calm and storm. You&#39\;ll learn skills to navigate conflict in healthy ways and engage in real conversations.&nbsp\;</span><em>must complete before taking Mediation training)</em></p>\n
LOCATION:300 E. 39th St.\, KCMO 64111
UID:e.9142.10263
SEQUENCE:3
DTSTAMP:20260421T104033Z
URL:https://info.npconnect.org/events/details/interpersonal-confict-resolution-training-03-20-2026-10263
END:VEVENT

END:VCALENDAR
