BEGIN:VCALENDAR
VERSION:2.0
PRODID:-//ChamberMaster//Event Calendar 2.0//EN
METHOD:PUBLISH
X-PUBLISHED-TTL:P3D
REFRESH-INTERVAL:P3D
CALSCALE:GREGORIAN
BEGIN:VEVENT
DTSTART:20230324T003000Z
DTEND:20230324T003000Z
X-MICROSOFT-CDO-ALLDAYEVENT:FALSE
SUMMARY:Kansas City Ballet Presents "New Moves"
DESCRIPTION:New Moves\, one of Kansas City Ballet's most popular performances\, showcases contemporary ballet in an intimate setting. This limited-run production gives audiences a chance to see tomorrow's sought-after choreographers today! An up-close and visceral experience for audience and dancer alike\, all performances are held in the Bolender Center's Michael and Ginger Frost Studio Theater. Come see our Kansas City Ballet artists and emerging choreographers discover bold new ways of expression and feel the athleticism\, beauty\, power\, and passion of never-before-seen dance creations!
X-ALT-DESC;FMTTYPE=text/html:<p><span style="font-size:14px\;"><span style="font-family:arial\;">New Moves\, one of Kansas City Ballet&rsquo\;s most popular performances\, showcases contemporary ballet in an intimate setting. This limited-run production gives audiences a chance to see tomorrow&rsquo\;s sought-after choreographers today! An up-close and visceral experience for audience and dancer alike\, all performances are held in the Bolender Center&rsquo\;s Michael and Ginger Frost Studio Theater. Come see our Kansas City Ballet artists and emerging choreographers discover bold new ways of expression and feel the athleticism\, beauty\, power\, and passion of never-before-seen dance creations!</span></span></p>\n
LOCATION:Frost Studio Theater\, Todd Bolender Center for Dance & Creativity 500 W. Pershing Rd.\, Kansas City\, MO 64108
UID:e.9142.5879
SEQUENCE:3
DTSTAMP:20260419T214724Z
URL:https://info.npconnect.org/events/details/kansas-city-ballet-presents-new-moves-03-23-2023-5879
END:VEVENT

END:VCALENDAR
