BEGIN:VCALENDAR
VERSION:2.0
PRODID:-//ChamberMaster//Event Calendar 2.0//EN
METHOD:PUBLISH
X-PUBLISHED-TTL:P3D
REFRESH-INTERVAL:P3D
CALSCALE:GREGORIAN
BEGIN:VEVENT
DTSTART:20260512T180000Z
DTEND:20260512T190000Z
X-MICROSOFT-CDO-ALLDAYEVENT:FALSE
SUMMARY:Partner Program: Board’s Guide to Money
DESCRIPTION:NOTE: This is a partner program through the National Council of Nonprofits\, not hosted by Nonprofit Connect. \n\nWhat do board members need to know and do to fulfill their fiduciary responsibility for overseeing an organization's budget? This two-part series is designed for board members seeking a strong foundation in nonprofit finance to better support their mission and financial oversight responsibilities.\n\nWhether you are a first-time board member or a seasoned treasurer\, this series provides practical guidance and clarity on how to focus on what matters most.\n\nParticipants will be able to:\n\n\n	\n	Explain common components of a nonprofit budget\n	\n	\n	Use templates to assess organizational financials\n	\n	\n	Describe key financial indicators of organizational health\n	\n	\n	Identify board processes and systems that support an effective finance committee
X-ALT-DESC;FMTTYPE=text/html:<div style="font-size: 16px\; box-sizing: border-box\; caret-color: rgb(2\, 55\, 71)\; color: rgb(2\, 55\, 71)\; font-family: SourceSans\, &quot\;Helvetica Neue&quot\;\, Helvetica\, sans-serif\;">\n<p style="box-sizing: border-box\; margin: 0px 0px 1rem\; caret-color: rgb(63\, 63\, 63)\; color: rgb(63\, 63\, 63)\; font-family: &quot\;Open Sans&quot\;\, sans-serif\;"><span style="font-family:tahoma\;"><strong><span style="box-sizing: border-box\;"><span style="box-sizing: border-box\;"><em style="box-sizing: border-box\;"><span style="box-sizing: border-box\;">NOTE: This is a partner program through the National Council of Nonprofits\, not hosted by Nonprofit Connect.&nbsp\;</span></em></span></span></strong></span></p>\n\n<p data-end="410" data-start="112" style="box-sizing: border-box\; margin-top: 0px\; margin-bottom: 1rem\; font-family: &quot\;Source Sans 3&quot\;\, &quot\;Helvetica Neue&quot\;\, Helvetica\, sans-serif\; line-height: normal\; font-size: 1.125rem\; max-width: 800px\; caret-color: rgb(2\, 55\, 71)\; color: rgb(2\, 55\, 71)\;">What do board members need to know and do to fulfill their fiduciary responsibility for overseeing an organization&rsquo\;s budget? This two-part series is designed for board members seeking a strong foundation in nonprofit finance to better support their mission and financial oversight responsibilities.</p>\n\n<p data-end="568" data-start="412" style="box-sizing: border-box\; margin-top: 0px\; margin-bottom: 1rem\; font-family: &quot\;Source Sans 3&quot\;\, &quot\;Helvetica Neue&quot\;\, Helvetica\, sans-serif\; line-height: normal\; font-size: 1.125rem\; max-width: 800px\; caret-color: rgb(2\, 55\, 71)\; color: rgb(2\, 55\, 71)\;">Whether you are a first-time board member or a seasoned treasurer\, this series provides practical guidance and clarity on how to focus on what matters most.</p>\n\n<p data-end="599" data-start="570" style="box-sizing: border-box\; margin-top: 0px\; margin-bottom: 1rem\; font-family: &quot\;Source Sans 3&quot\;\, &quot\;Helvetica Neue&quot\;\, Helvetica\, sans-serif\; line-height: normal\; font-size: 1.125rem\; max-width: 800px\; caret-color: rgb(2\, 55\, 71)\; color: rgb(2\, 55\, 71)\;">Participants will be able to:</p>\n\n<ul data-end="853" data-start="600" style="font-size: 16px\; box-sizing: border-box\; padding-left: 2rem\; margin-top: 0px\; margin-bottom: 1rem\; max-width: 800px\; caret-color: rgb(2\, 55\, 71)\; color: rgb(2\, 55\, 71)\; font-family: SourceSans\, &quot\;Helvetica Neue&quot\;\, Helvetica\, sans-serif\;">\n	<li data-end="651" data-section-id="20a07e" data-start="600" style="box-sizing: border-box\; max-width: 800px\; font-size: 1.125rem\;">\n	<p data-end="651" data-start="602" style="box-sizing: border-box\; margin-top: 0px\; margin-bottom: 1rem\; font-family: &quot\;Source Sans 3&quot\;\, &quot\;Helvetica Neue&quot\;\, Helvetica\, sans-serif\; line-height: normal\; font-size: 1.125rem\; max-width: 800px\;">Explain common components of a nonprofit budget</p>\n	</li>\n	<li data-end="705" data-section-id="1cko8d7" data-start="652" style="box-sizing: border-box\; max-width: 800px\; font-size: 1.125rem\;">\n	<p data-end="705" data-start="654" style="box-sizing: border-box\; margin-top: 0px\; margin-bottom: 1rem\; font-family: &quot\;Source Sans 3&quot\;\, &quot\;Helvetica Neue&quot\;\, Helvetica\, sans-serif\; line-height: normal\; font-size: 1.125rem\; max-width: 800px\;">Use templates to assess organizational financials</p>\n	</li>\n	<li data-end="768" data-section-id="1ogqslm" data-start="706" style="box-sizing: border-box\; max-width: 800px\; font-size: 1.125rem\;">\n	<p data-end="768" data-start="708" style="box-sizing: border-box\; margin-top: 0px\; margin-bottom: 1rem\; font-family: &quot\;Source Sans 3&quot\;\, &quot\;Helvetica Neue&quot\;\, Helvetica\, sans-serif\; line-height: normal\; font-size: 1.125rem\; max-width: 800px\;">Describe key financial indicators of organizational health</p>\n	</li>\n	<li data-end="853" data-section-id="1oefwbj" data-start="769" style="box-sizing: border-box\; max-width: 800px\; font-size: 1.125rem\;">\n	<p data-end="853" data-start="771" style="box-sizing: border-box\; margin-top: 0px\; margin-bottom: 1rem\; font-family: &quot\;Source Sans 3&quot\;\, &quot\;Helvetica Neue&quot\;\, Helvetica\, sans-serif\; line-height: normal\; font-size: 1.125rem\; max-width: 800px\;">Identify board processes and systems that support an effective finance committee</p>\n	</li>\n</ul>\n\n<p style="box-sizing: border-box\; margin: 0px 0px 1rem\; caret-color: rgb(63\, 63\, 63)\; color: rgb(63\, 63\, 63)\; font-family: &quot\;Open Sans&quot\;\, sans-serif\;">&nbsp\;</p>\n</div>\n
LOCATION:Virtual: Register here.
UID:e.9142.10360
SEQUENCE:3
DTSTAMP:20260423T010756Z
URL:https://info.npconnect.org/events/details/partner-program-board-s-guide-to-money-10360
END:VEVENT

END:VCALENDAR
