BEGIN:VCALENDAR
VERSION:2.0
PRODID:-//ChamberMaster//Event Calendar 2.0//EN
METHOD:PUBLISH
X-PUBLISHED-TTL:P3D
REFRESH-INTERVAL:P3D
CALSCALE:GREGORIAN
BEGIN:VEVENT
DTSTART:20260501T230000Z
DTEND:20260502T010000Z
X-MICROSOFT-CDO-ALLDAYEVENT:FALSE
SUMMARY:Paws For Progress
DESCRIPTION:Join KC Urban Advantage and Great Plains SPCA for an inspiring evening of connection\, collaboration\, and community impact. Together\, we're building stronger neighborhoods by supporting families\, pets\, and the people who care for them. Enjoy a relaxed night out featuring craft drinks\, delicious appetizers\, a curated silent auction\, and a raffle packed with standout prizes all while networking with leaders\, advocates\, and community partners committed to uplifting Kansas City. This is more than a social event it's an opportunity to form meaningful connections and spark ideas that create lasting change. Come be part of the momentum. Together\, we can make a powerful difference.
X-ALT-DESC;FMTTYPE=text/html:Join KC Urban Advantage and Great Plains SPCA for an inspiring evening of connection\, collaboration\, and community impact. Together\, we&rsquo\;re building stronger neighborhoods by supporting families\, pets\, and the people who care for them. Enjoy a relaxed night out featuring craft drinks\, delicious appetizers\, a curated silent auction\, and a raffle packed with standout prizes&mdash\;all while networking with leaders\, advocates\, and community partners committed to uplifting Kansas City. This is more than a social event&mdash\;it&rsquo\;s an opportunity to form meaningful connections and spark ideas that create lasting change. Come be part of the momentum. Together\, we can make a powerful difference.
LOCATION:Museum at Prairiefire 5801 W 135th Street Overland Park\, Kansas 66223
UID:e.9142.10429
SEQUENCE:3
DTSTAMP:20260423T010746Z
URL:https://info.npconnect.org/events/details/paws-for-progress-05-01-2026-10429
END:VEVENT

END:VCALENDAR
