BEGIN:VCALENDAR
VERSION:2.0
PRODID:-//ChamberMaster//Event Calendar 2.0//EN
METHOD:PUBLISH
X-PUBLISHED-TTL:P3D
REFRESH-INTERVAL:P3D
CALSCALE:GREGORIAN
BEGIN:VEVENT
DTSTART:20260314T140000Z
DTEND:20260314T150000Z
X-MICROSOFT-CDO-ALLDAYEVENT:FALSE
SUMMARY:Saturday STEM Seminar - Building Pathways in STEM
DESCRIPTION:Powered by The Barstow School\, the Dan & Cassidy Towriss IDEA Space is a 35\,000 square foot STEAM center where students design\, create and solve real-world problems. This presenter's story of classroom teacher to IDEA Space Director will inspire you to be bold\, stay curious and see yourself in any future you create.\n\n\n  Saturday\, March 14\, 9-10am\n\n  Union Station's Extreme Screen Theatre\n\n  Geared toward students in grades 7 12\n\n  Open to everyone with an interest in STEM\n\n  FREE to attend (registration required)\n\n\n\nEach Saturday STEM Seminar features a 45-minute presentation and 15-minute interactive Q&A.
X-ALT-DESC;FMTTYPE=text/html:<p><span style="background-color:rgb(231\, 255\, 207)\; color:rgb(85\, 85\, 85)\; font-family:lucida grande\,lucida sans unicode\,tahoma\,sans-serif\; font-size:12.35px">Powered by The Barstow School\, the Dan &amp\; Cassidy Towriss IDEA Space is a 35\,000 square foot STEAM center where students design\, create and solve real-world problems. This presenter&#39\;s story of classroom teacher to IDEA Space Director will inspire you to be bold\, stay curious and see yourself in any future you create.</span></p>\n\n<div>\n<div>&bull\; Saturday\, March 14\, 9-10am</div>\n\n<div>&bull\; Union Station&#39\;s Extreme Screen Theatre</div>\n\n<div>&bull\; Geared toward students in grades 7&ndash\;12</div>\n\n<div>&bull\; Open to everyone with an interest in STEM</div>\n\n<div>&bull\; FREE to attend (registration required)</div>\n</div>\n\n<div>\n<div>Each Saturday STEM Seminar features a 45-minute presentation and 15-minute interactive Q&amp\;A.</div>\n</div>\n
LOCATION:Extreme Screen Movie Theater inside Union Station Kansas City
UID:e.9142.10115
SEQUENCE:3
DTSTAMP:20260421T105728Z
URL:https://info.npconnect.org/events/details/saturday-stem-seminar-building-pathways-in-stem-03-14-2026-10115
END:VEVENT

END:VCALENDAR
