BEGIN:VCALENDAR
VERSION:2.0
PRODID:-//ChamberMaster//Event Calendar 2.0//EN
METHOD:PUBLISH
X-PUBLISHED-TTL:P3D
REFRESH-INTERVAL:P3D
CALSCALE:GREGORIAN
BEGIN:VEVENT
DTSTART;VALUE=DATE:20260529
DTEND;VALUE=DATE:20260530
TRANSP:TRANSPARENT
X-MICROSOFT-CDO-ALLDAYEVENT:TRUE
SUMMARY:The Berlin Wall. A World Divided. Exhibition at Union Station
DESCRIPTION:From the producers of Auschwitz. Not long ago. Not far away. comes the next world-shaping chapter of global history and the enduring importance of freedom\, human rights\, and democracy.\n\nOpens May 29\, 2026 The Berlin Wall. A World Divided. is the story of the greatest symbol of division in the 20th century. For nearly three decades\, the Berlin Wall divided a city. Now\, The Berlin Wall. A World Divided. brings its story to life.\n\nAn unprecedented collaboration\, which for the first time gathers more than 40 lenders from 20 international institutions\, highlights the different perspectives and experiences of people living on both sides of the wall through a collection of 200 original objects on public display for the first time in North America.\n\nDivided into four sections\, the exhibition explores the story behind the Berlin Wall and the world it represented   a global conflict between capitalism and communism that brought our planet to the brink of nuclear destruction.\n\nThe Berlin Wall. A World Divided. combines multiple perspectives and experiences through a unique collection of artifacts\, media and diverse testimonies. The exhibition traces the origins and rise of the Cold War conflict.\n\nExtending its narrative to the fall of the Wall in 1989\, as a prelude to the end of the Cold War\, the exhibition hints at the legacy of an era that continues\, in essence\, to shape the world and goes beyond the conventional narrative about the history of the Berlin Wall.\n\nIncluded in your admission is an audio guide\, which provides additional information with a carefully crafted narrative. Audio guide available in English\, Spanish and French.\n\nThe Berlin Wall. A World Divided. is an exhibition by the Spanish company Musealia in collaboration with the Berlin Wall Foundation\, the German institution that looks after the historical legacy and memory of the victims of the communist regime in East Germany.
X-ALT-DESC;FMTTYPE=text/html:<p>From the producers of Auschwitz. Not long ago. Not far away. comes the next world-shaping chapter of global history and the enduring importance of freedom\, human rights\, and democracy.</p>\n\n<p>Opens May 29\, 2026&nbsp\;<em><strong>The Berlin Wall. A World Divided.</strong></em>&nbsp\;is the story of the greatest symbol of division in the 20th century. For nearly three decades\, the Berlin Wall divided a city. Now\,&nbsp\;<em><strong>The Berlin Wall. A World Divided.</strong></em>&nbsp\;brings its story to life.</p>\n\n<p>An unprecedented collaboration\, which for the first time gathers more&nbsp\;<strong>than 40 lenders</strong>&nbsp\;from&nbsp\;<strong>20 international institutions</strong>\, highlights the different perspectives and experiences of people living on both sides of the wall through a collection of&nbsp\;<strong>200</strong>&nbsp\;original objects on public display for the first time in North America.</p>\n\n<p>Divided into four sections\, the exhibition explores the story behind the Berlin Wall and the world it represented &ndash\; a global conflict between capitalism and communism that brought our planet to the brink of nuclear destruction.</p>\n\n<p><em><strong>The Berlin Wall. A World Divided.</strong></em>&nbsp\;combines multiple perspectives and experiences through a unique collection of artifacts\, media and diverse testimonies. The exhibition traces the origins and rise of the Cold War conflict.</p>\n\n<p>Extending its narrative to the fall of the Wall in 1989\, as a prelude to the end of the Cold War\, the exhibition hints at the legacy of an era that continues\, in essence\, to shape the world and goes beyond the conventional narrative about the history of the Berlin Wall.</p>\n\n<p>Included in your admission is an audio guide\, which provides additional information with a carefully crafted narrative. Audio guide available in English\, Spanish and French.</p>\n\n<p><em><strong>The Berlin Wall. A World Divided.</strong></em>&nbsp\;is an exhibition by the Spanish company Musealia in collaboration with the Berlin Wall Foundation\, the German institution that looks after the historical legacy and memory of the victims of the communist regime in East Germany.</p>\n
LOCATION:Union Station Kansas City 30 West Pershing\, Rd\, Kansas City\, MO 64108
UID:e.9142.10432
SEQUENCE:3
DTSTAMP:20260423T011336Z
URL:https://info.npconnect.org/events/details/the-berlin-wall-a-world-divided-exhibition-at-union-station-10432
END:VEVENT

END:VCALENDAR
