BEGIN:VCALENDAR
VERSION:2.0
PRODID:-//ChamberMaster//Event Calendar 2.0//EN
METHOD:PUBLISH
X-PUBLISHED-TTL:P3D
REFRESH-INTERVAL:P3D
CALSCALE:GREGORIAN
BEGIN:VEVENT
DTSTART:20250210T220000Z
DTEND:20250210T230000Z
X-MICROSOFT-CDO-ALLDAYEVENT:FALSE
SUMMARY:Virtual BioKansas to AdAstra BIO Town Hall
DESCRIPTION:Join us to understand what BioKansas's evolution to AdAstra BIO means for 2025 initiatives and your membership.
X-ALT-DESC;FMTTYPE=text/html:<span style="color:rgb(102\, 102\, 102)\; font-family:arial\,helvetica">Join us to understand what BioKansas&#39\;s evolution to AdAstra BIO means for 2025 initiatives and your membership.&nbsp\;</span>
LOCATION:Virtual
UID:e.9142.8526
SEQUENCE:3
DTSTAMP:20260421T091413Z
URL:https://info.npconnect.org/events/details/virtual-biokansas-to-adastra-bio-town-hall-8526
END:VEVENT

END:VCALENDAR
