BEGIN:VCALENDAR
VERSION:2.0
PRODID:-//ChamberMaster//Event Calendar 2.0//EN
METHOD:PUBLISH
X-PUBLISHED-TTL:P3D
REFRESH-INTERVAL:P3D
CALSCALE:GREGORIAN
BEGIN:VEVENT
DTSTART:20260513T163000Z
DTEND:20260513T180000Z
X-MICROSOFT-CDO-ALLDAYEVENT:FALSE
SUMMARY:World Cup: CSEC & Medical Emergencies training
DESCRIPTION:As KC prepares for the FIFA World Cup\, gain skills to identify high-risk youth and report trafficking concerns that keep kids safe. As Kansas City prepares to welcome visitors for the FIFA World Cup\, the Child Protection Center's CSEC Specialist and Children's Mercy Hospital are partnering to educate community members with the knowledge and confidence to help keep children safe. This training provides an essential overview of Commercial Sexual Exploitation of Children (CSEC) and how to navigate emergency services for children\, with a focus on how to recognize signs of youth at risk\, respond appropriately when concerns arise\, and report suspicions to protect vulnerable children. Participants will learn how to identify red flags\, and know what steps to take if they observe concerning behavior or suspect exploitation during World Cup events\, fan fests\, or related activities. This session empowers our community to safeguard children.
X-ALT-DESC;FMTTYPE=text/html:As KC prepares for the FIFA World Cup\, gain skills to identify high-risk youth and report trafficking concerns that keep kids safe. As Kansas City prepares to welcome visitors for the FIFA World Cup\, the Child Protection Center&#39\;s CSEC Specialist and Children&#39\;s Mercy Hospital are partnering to educate community members with the knowledge and confidence to help keep children safe. This training provides an essential overview of Commercial Sexual Exploitation of Children (CSEC) and how to navigate emergency services for children\, with a focus on how to recognize signs of youth at risk\, respond appropriately when concerns arise\, and report suspicions to protect vulnerable children. Participants will learn how to identify red flags\, and know what steps to take if they observe concerning behavior or suspect exploitation during World Cup events\, fan fests\, or related activities. This session empowers our community to safeguard children.
LOCATION:virtual
UID:e.9142.10372
SEQUENCE:3
DTSTAMP:20260423T010943Z
URL:https://info.npconnect.org/events/details/world-cup-csec-medical-emergencies-training-10372
END:VEVENT

END:VCALENDAR
